BEGIN:VCALENDAR
VERSION:2.0
PRODID:-//Halstead Community Primary School - ECPv6.14.0//NONSGML v1.0//EN
CALSCALE:GREGORIAN
METHOD:PUBLISH
X-ORIGINAL-URL:https://halstead.kent.sch.uk
X-WR-CALDESC:Events for Halstead Community Primary School
REFRESH-INTERVAL;VALUE=DURATION:PT1H
X-Robots-Tag:noindex
X-PUBLISHED-TTL:PT1H
BEGIN:VTIMEZONE
TZID:UTC
BEGIN:STANDARD
TZOFFSETFROM:+0000
TZOFFSETTO:+0000
TZNAME:UTC
DTSTART:20250101T000000
END:STANDARD
END:VTIMEZONE
BEGIN:VEVENT
DTSTART;TZID=UTC:20250304T150000
DTEND;TZID=UTC:20250304T160000
DTSTAMP:20260421T123143
CREATED:20250127T160708Z
LAST-MODIFIED:20250127T160708Z
UID:7340-1741100400-1741104000@halstead.kent.sch.uk
SUMMARY:Netball Match
DESCRIPTION:
URL:https://halstead.kent.sch.uk/event/netball-match/
END:VEVENT
BEGIN:VEVENT
DTSTART;TZID=UTC:20250305T153000
DTEND;TZID=UTC:20250305T190000
DTSTAMP:20260421T123143
CREATED:20250127T160747Z
LAST-MODIFIED:20250127T160747Z
UID:7342-1741188600-1741201200@halstead.kent.sch.uk
SUMMARY:Parents Evening
DESCRIPTION:
URL:https://halstead.kent.sch.uk/event/parents-evening/
END:VEVENT
BEGIN:VEVENT
DTSTART;VALUE=DATE:20250306
DTEND;VALUE=DATE:20250307
DTSTAMP:20260421T123143
CREATED:20250127T160812Z
LAST-MODIFIED:20250127T160812Z
UID:7344-1741219200-1741305599@halstead.kent.sch.uk
SUMMARY:World Book Day
DESCRIPTION:
URL:https://halstead.kent.sch.uk/event/world-book-day/
END:VEVENT
BEGIN:VEVENT
DTSTART;VALUE=DATE:20250311
DTEND;VALUE=DATE:20250312
DTSTAMP:20260421T123143
CREATED:20250127T160839Z
LAST-MODIFIED:20250127T160839Z
UID:7346-1741651200-1741737599@halstead.kent.sch.uk
SUMMARY:Willow Class - Science Workshop
DESCRIPTION:
URL:https://halstead.kent.sch.uk/event/willow-class-science-workshop-2/
END:VEVENT
BEGIN:VEVENT
DTSTART;VALUE=DATE:20250317
DTEND;VALUE=DATE:20250318
DTSTAMP:20260421T123143
CREATED:20250127T160910Z
LAST-MODIFIED:20250127T160910Z
UID:7348-1742169600-1742255999@halstead.kent.sch.uk
SUMMARY:Saplings Class - Hever Castle Trip
DESCRIPTION:
URL:https://halstead.kent.sch.uk/event/saplings-class-hever-castle-trip/
END:VEVENT
BEGIN:VEVENT
DTSTART;VALUE=DATE:20250324
DTEND;VALUE=DATE:20250325
DTSTAMP:20260421T123143
CREATED:20250127T160941Z
LAST-MODIFIED:20250127T160941Z
UID:7350-1742774400-1742860799@halstead.kent.sch.uk
SUMMARY:Love 2 Dance
DESCRIPTION:
URL:https://halstead.kent.sch.uk/event/love-2-dance/
END:VEVENT
BEGIN:VEVENT
DTSTART;VALUE=DATE:20250328
DTEND;VALUE=DATE:20250329
DTSTAMP:20260421T123143
CREATED:20250127T161011Z
LAST-MODIFIED:20250127T161011Z
UID:7352-1743120000-1743206399@halstead.kent.sch.uk
SUMMARY:Cross Country - Oak Class
DESCRIPTION:
URL:https://halstead.kent.sch.uk/event/cross-country-oak-class/
END:VEVENT
END:VCALENDAR