BEGIN:VCALENDAR
VERSION:2.0
PRODID:-//Halstead Community Primary School - ECPv6.14.0//NONSGML v1.0//EN
CALSCALE:GREGORIAN
METHOD:PUBLISH
X-ORIGINAL-URL:https://halstead.kent.sch.uk
X-WR-CALDESC:Events for Halstead Community Primary School
REFRESH-INTERVAL;VALUE=DURATION:PT1H
X-Robots-Tag:noindex
X-PUBLISHED-TTL:PT1H
BEGIN:VTIMEZONE
TZID:UTC
BEGIN:STANDARD
TZOFFSETFROM:+0000
TZOFFSETTO:+0000
TZNAME:UTC
DTSTART:20250101T000000
END:STANDARD
END:VTIMEZONE
BEGIN:VEVENT
DTSTART;VALUE=DATE:20250401
DTEND;VALUE=DATE:20250402
DTSTAMP:20260421T103842
CREATED:20250127T161045Z
LAST-MODIFIED:20250127T161045Z
UID:7354-1743465600-1743551999@halstead.kent.sch.uk
SUMMARY:Buds and Maple Class - Fairy Tale Workshop
DESCRIPTION:
URL:https://halstead.kent.sch.uk/event/buds-and-maple-class-fairy-tale-workshop/
END:VEVENT
BEGIN:VEVENT
DTSTART;VALUE=DATE:20250403
DTEND;VALUE=DATE:20250404
DTSTAMP:20260421T103842
CREATED:20250402T144730Z
LAST-MODIFIED:20250402T144730Z
UID:7504-1743638400-1743724799@halstead.kent.sch.uk
SUMMARY:Easter Egg Hunt
DESCRIPTION:
URL:https://halstead.kent.sch.uk/event/easter-egg-hunt/
END:VEVENT
BEGIN:VEVENT
DTSTART;VALUE=DATE:20250404
DTEND;VALUE=DATE:20250405
DTSTAMP:20260421T103842
CREATED:20250127T161143Z
LAST-MODIFIED:20250127T161143Z
UID:7358-1743724800-1743811199@halstead.kent.sch.uk
SUMMARY:End of Term
DESCRIPTION:
URL:https://halstead.kent.sch.uk/event/end-of-term-2/
END:VEVENT
BEGIN:VEVENT
DTSTART;VALUE=DATE:20250404
DTEND;VALUE=DATE:20250405
DTSTAMP:20260421T103842
CREATED:20250402T144908Z
LAST-MODIFIED:20250402T144908Z
UID:7506-1743724800-1743811199@halstead.kent.sch.uk
SUMMARY:BUDS - Craft activities at Nesbit House
DESCRIPTION:
URL:https://halstead.kent.sch.uk/event/buds-craft-activities-at-nesbit-house/
END:VEVENT
BEGIN:VEVENT
DTSTART;VALUE=DATE:20250422
DTEND;VALUE=DATE:20250423
DTSTAMP:20260421T103842
CREATED:20250127T161217Z
LAST-MODIFIED:20250127T161217Z
UID:7360-1745280000-1745366399@halstead.kent.sch.uk
SUMMARY:Term 5 Begins
DESCRIPTION:
URL:https://halstead.kent.sch.uk/event/term-5-begins/
END:VEVENT
BEGIN:VEVENT
DTSTART;VALUE=DATE:20250424
DTEND;VALUE=DATE:20250425
DTSTAMP:20260421T103842
CREATED:20250402T144944Z
LAST-MODIFIED:20250402T144944Z
UID:7508-1745452800-1745539199@halstead.kent.sch.uk
SUMMARY:BUDS Craft activities at Nesbit House
DESCRIPTION:
URL:https://halstead.kent.sch.uk/event/buds-craft-activities-at-nesbit-house-2/
END:VEVENT
BEGIN:VEVENT
DTSTART;VALUE=DATE:20250429
DTEND;VALUE=DATE:20250430
DTSTAMP:20260421T103842
CREATED:20250402T145055Z
LAST-MODIFIED:20250402T145055Z
UID:7510-1745884800-1745971199@halstead.kent.sch.uk
SUMMARY:Swimming Lessons
DESCRIPTION:
URL:https://halstead.kent.sch.uk/event/swimming-lessons/
END:VEVENT
END:VCALENDAR